          

      

  

BEGIN:VCALENDAR
VERSION:2.0
PRODID:-//Green Nation - ECPv4.9.9//NONSGML v1.0//EN
CALSCALE:GREGORIAN
METHOD:PUBLISH
X-WR-CALNAME:Green Nation
X-ORIGINAL-URL:https://greennation.com.br
X-WR-CALDESC:Eventos para Green Nation
BEGIN:VTIMEZONE
TZID:America/Sao_Paulo
BEGIN:STANDARD
TZOFFSETFROM:-0200
TZOFFSETTO:-0300
TZNAME:-03
DTSTART:20180218T020000
END:STANDARD
BEGIN:DAYLIGHT
TZOFFSETFROM:-0300
TZOFFSETTO:-0200
TZNAME:-02
DTSTART:20181104T030000
END:DAYLIGHT
END:VTIMEZONE
BEGIN:VEVENT
DTSTART;TZID=America/Sao_Paulo:20181012T143000
DTEND;TZID=America/Sao_Paulo:20181012T170000
DTSTAMP:20230303T085938
CREATED:20190623T212326Z
LAST-MODIFIED:20190623T220705Z
UID:16500-1539354600-1539363600@greennation.com.br
SUMMARY:Encantados
DESCRIPTION:Cinema – Programação\nEncantados\, de Tizuka Yamasaki\, 78 minutos\, (Brasil)\, faixa etária 10 anos\n\nSinopse\nQuando a adolescente Zeneida (Carol Oliveira) é obrigada a viver na misteriosa ilha do Marajo\, ela perde o controle de sua mente e emoções.  Zeneida só quer sobreviver\, agora que encontrou seu primeiro grande amor: Antonio (Thiago Martins)\, o Encantado Sucuri.  Assim\, sentindo-se sufocada por sua família e pela realidade\, a menina corajosa e  atrevida não tem escolha senão fugir com Antonio para a floresta profunda e ali consumir a sua paixão.  Mas\, Zeneida é surpreendida pelos seus antepassados\, seres místicos que esperavam por ela para impor seu destino como pajé. Uma história de amor\, misticismo e tradições que só podem ser vividos em “Encantados”.ElencoCAROL OLIVEIRA\nTHIAGO MARTINS\nDIRA PAES\nJOSE MAYER \nANGELO ANTONIO\nLETÍCIA SABATELLA\nANDERSON MULLER \nParticipação Especial \nLAURA CARDOSO\nCASSIA KISS MAGRO \nApós a sessão haverá debate com a diretora do filme. \nEssa instalação é apresentada pela AMA. \n\n
URL:https://greennation.com.br/evento/teste/
LOCATION:8° Fórum Mundial da Água\, St. de Divulgação Cultural\, 05\, Brasília\, DF\, 70070-350\, Brasil
CATEGORIES:Brasilia 2018
ATTACH;FMTTYPE=image/jpeg:https://greennation.com.br/wp-content/uploads/2019/06/6e33a0ff485517525271823b373a4cc2.jpg
END:VEVENT
END:VCALENDAR