          

      

  

BEGIN:VCALENDAR
VERSION:2.0
PRODID:-//Green Nation - ECPv4.9.9//NONSGML v1.0//EN
CALSCALE:GREGORIAN
METHOD:PUBLISH
X-WR-CALNAME:Green Nation
X-ORIGINAL-URL:https://greennation.com.br/en/
X-WR-CALDESC:Events for Green Nation
BEGIN:VTIMEZONE
TZID:America/Sao_Paulo
BEGIN:STANDARD
TZOFFSETFROM:-0200
TZOFFSETTO:-0300
TZNAME:-03
DTSTART:20180218T020000
END:STANDARD
BEGIN:DAYLIGHT
TZOFFSETFROM:-0300
TZOFFSETTO:-0200
TZNAME:-02
DTSTART:20181104T030000
END:DAYLIGHT
END:VTIMEZONE
BEGIN:VEVENT
DTSTART;TZID=America/Sao_Paulo:20180317T080000
DTEND;TZID=America/Sao_Paulo:20180323T170000
DTSTAMP:20230303T100141
CREATED:20190623T174526Z
LAST-MODIFIED:20190623T211231Z
UID:16484-1521273600-1521824400@greennation.com.br
SUMMARY:Manual de Sobrevivência para o Século 21: Água que vem do céu
DESCRIPTION:Duração: 26 minutos\, cor. (legendado em inglês) \nDia 21 de março\, às 18h30\, no Cinema da Vila Cidadã. \nA quarta edição da mostra oferece ao público olhares transversais sobre as várias questões da água. \nManual de Sobrevivência para o Século 21 \nExibição première da série “Manual de Sobrevivência para o Século 21”\, episódio “Água que vem do céu”\, com a presença do diretor João Amorim e do ator e apresentador Marcos Palmeira. \n \nO episódio mostra alternativas que aumentam a autonomia na gestão do recurso da água e coloca em prática formas eficientes de captá-la e de protegê-la para as futuras gerações. \nSinopse: \nOs recentes eventos climáticos extremos em todo mundo e no Brasil também\, como as fortes chuvas na Região Norte\, e a dramática seca levando os reservatórios a níveis críticos no Estado de São Paulo\, demonstram cada vez mais a nossa fragilidade como espécie\, face as mudanças que estão ocorrendo no Planeta. Ao mesmo tempo\, temos uma nova classe emergente\, com uma sede insaciável de consumo\, num mundo com recursos escassos. Da crise financeira à crise ambiental\, às guerras por energia e recursos naturais\, nos questionamos como poderemos sobreviver como espécie no século 21. É nesse contexto que surge o “Manual de Sobrevivência para o século 21”.\nVivenciado por Marcos Palmeira\, o “Manual” busca ilustrar como podemos restabelecer uma sociedade pós-colapso. Entrecortado por animações dinâmicas e com trilha arrojada\, de músicos renomados como Gilberto Gil\, Almir Sater\, Céu\, Otto\, Nação Zumbi\, entre outros\, o Programa busca mostrar como podemos plantar nosso próprio alimento\, estabelecer moedas solidárias\, desenvolver máquinas com tecnologia de código aberto\, construir nosso próprio abrigo com materiais locais e formar comunidades autossustentáveis. Aponta para possíveis soluções para nosso Planeta em crise. \nEp. 2 -“Água” \nA falta d’água é realidade. A cada ano\, cresce a demanda por recursos hídricos e\, se nada for feito\, em menos de uma década vai faltar água para um terço dos brasileiros. Nesse episódio\, Marcos Palmeira sai em busca de alternativas que visam tirar o país do mapa da escassez. Ele aprende a construir a cisterna caseira\, solução prática e barata que aumenta a autonomia na gestão desse recurso e proporciona economia de água potável. Na Bahia encontra com Ernst Gotsh e aprende que Água se planta. Em São Paulo conhece dois caçadores de rios urbanos que mostram como grandes cidades podem recuperar os seus cursos d ?água naturais e voltar a conviver\nharmonicamente com eles. \nEssa instalação é apresentada pela AMA. \n
URL:https://greennation.com.br/en/evento/manual-de-sobrevivencia-para-o-seculo-21-agua-que-vem-do-ceu/
LOCATION:8° Fórum Mundial da Água\, St. de Divulgação Cultural\, 05\, Brasília\, DF\, 70070-350\, Brasil
CATEGORIES:Brasilia 2018
ATTACH;FMTTYPE=image/jpeg:https://greennation.com.br/wp-content/uploads/2019/06/head1.jpg
END:VEVENT
END:VCALENDAR